BEGIN:VCALENDAR
VERSION:2.0
PRODID:-//ChamberMaster//Event Calendar 2.0//EN
METHOD:PUBLISH
X-PUBLISHED-TTL:P3D
REFRESH-INTERVAL:P3D
CALSCALE:GREGORIAN
BEGIN:VEVENT
DTSTART;VALUE=DATE:20231027
DTEND;VALUE=DATE:20231030
TRANSP:TRANSPARENT
X-MICROSOFT-CDO-ALLDAYEVENT:TRUE
SUMMARY:VFW Spooktacular Community Vendor & Craft Fair
DESCRIPTION:Friday\, Oct\, 27: Shopping 4-8pm\; Steak Dinner 5-8pm\; Kids finger print kits 4-8pm\; Coloring\; Bake sale for Wreaths Across America\n\n\n\nSaturday\, Oct. 28: Shopping 10am -6pm\; Burgers 11am-2pm\; Halloween selfie\; Coloring\; Halloween dress-up\; Trunk or treat 4-6pm\; Indian Tacos 4-6pm\; Bake sale for Wreaths Across America.\n\n\n\nSunday\, Oct. 29: Scout Breakfast 8-11:30am\; Coloring\; Critter pup-cup\; 360 Photo Booth\; Freedom Pets and a true story
X-ALT-DESC;FMTTYPE=text/html:<u><strong>Friday\, Oct\, 27</strong></u>: Shopping 4-8pm\; Steak Dinner 5-8pm\; Kids finger print kits 4-8pm\; Coloring\; Bake sale for Wreaths Across America<br />\n<br />\n<u><strong>Saturday\, Oct. 28</strong></u>: Shopping 10am -6pm\; Burgers 11am-2pm\; Halloween selfie\; Coloring\; Halloween dress-up\; Trunk or treat 4-6pm\; Indian Tacos 4-6pm\; Bake sale for Wreaths Across America.<br />\n<br />\n<u><strong>Sunday\, Oct. 29</strong></u>: Scout Breakfast 8-11:30am\; Coloring\; Critter pup-cup\; 360 Photo Booth\; Freedom Pets and a true story
LOCATION:Carter-Smith VFW Post 5867 12560 Lindo Lane Lakeside\, 92040
UID:e.3146.3262
SEQUENCE:3
DTSTAMP:20260419T131426Z
URL:https://lakesidechamber.org/events/details/vfw-spooktacular-community-vendor-craft-fair-3262
END:VEVENT

END:VCALENDAR
