BEGIN:VCALENDAR
VERSION:2.0
PRODID:-//ChamberMaster//Event Calendar 2.0//EN
METHOD:PUBLISH
X-PUBLISHED-TTL:P3D
REFRESH-INTERVAL:P3D
CALSCALE:GREGORIAN
BEGIN:VEVENT
DTSTART:20231101T000000Z
DTEND:20231101T030000Z
X-MICROSOFT-CDO-ALLDAYEVENT:FALSE
SUMMARY:Trunk or Treat at Skyline Church
DESCRIPTION:Skyline Church in Lakeside is hosting the community favorite - TRUNK OR TREAT!\n\n \n\nWhat is Trunk or Treat? During trunk or treat\, people decorate the back of their cars for Halloween\, load up on candy\, and park in a parking lot for kids to "trick or treat" from car to car.\n\n\n\nFamilies in Lakeside and beyond absolutely love this event! Not to mention\, we will have prizes for the best-decorated vehicle! This FREE event is open to the public and will have a TON of exciting things!\n\n \n\nThis is going to be such a FUN night\, and we can't wait to see you and your family there
X-ALT-DESC;FMTTYPE=text/html:<div>Skyline Church in Lakeside is hosting the community favorite - TRUNK OR TREAT!<br />\n&nbsp\;</div>\n\n<div>What is Trunk or Treat? During trunk or treat\, people decorate the back of their cars for Halloween\, load up on candy\, and park in a parking lot for kids to &quot\;trick or treat&quot\; from car to car.<br />\n<br />\nFamilies in Lakeside and beyond absolutely love this event! Not to mention\, we will have prizes for the best-decorated vehicle! This FREE event is open to the public and will have a TON of exciting things!<br />\n&nbsp\;</div>\n\n<div>This is going to be such a FUN night\, and we can&#39\;t wait to see you and your family there</div>\n
LOCATION:9455 Los Coches Rd Lakeside\, Ca 92040
UID:e.3146.1431
SEQUENCE:3
DTSTAMP:20260419T132541Z
URL:https://lakesidechamber.org/events/details/trunk-or-treat-at-skyline-church-1431
END:VEVENT

END:VCALENDAR
