BEGIN:VCALENDAR
VERSION:2.0
PRODID:-//ChamberMaster//Event Calendar 2.0//EN
METHOD:PUBLISH
X-PUBLISHED-TTL:P3D
REFRESH-INTERVAL:P3D
CALSCALE:GREGORIAN
BEGIN:VEVENT
DTSTART:20211101T003000Z
DTEND:20211101T023000Z
X-MICROSOFT-CDO-ALLDAYEVENT:FALSE
SUMMARY:Trick or Treat on Maine Avenue
DESCRIPTION:Sponsored by\n\nThe Miss Lakeside Scholarship Pageant\n\nfor the Children of Lakeside
X-ALT-DESC;FMTTYPE=text/html:Sponsored by<br />\nThe Miss Lakeside Scholarship Pageant<br />\nfor the Children of Lakeside
LOCATION:Maine Avenue\, Lakeside
UID:e.3146.1430
SEQUENCE:3
DTSTAMP:20260425T193058Z
URL:https://lakesidechamber.org/events/details/trick-or-treat-on-maine-avenue-1430
END:VEVENT

END:VCALENDAR
