BEGIN:VCALENDAR
VERSION:2.0
PRODID:-//ChamberMaster//Event Calendar 2.0//EN
METHOD:PUBLISH
X-PUBLISHED-TTL:P3D
REFRESH-INTERVAL:P3D
CALSCALE:GREGORIAN
BEGIN:VEVENT
DTSTART:20231101T003000Z
DTEND:20231101T023000Z
X-MICROSOFT-CDO-ALLDAYEVENT:FALSE
SUMMARY:Trick or Treat on Maine
DESCRIPTION:13th Annual Trick or Treat on Maine\n\nSponsored by The Miss Lakeside Scholarship Pageant\n\nfor the Children of Lakeside
X-ALT-DESC;FMTTYPE=text/html:13th Annual Trick or Treat on Maine<br />\nSponsored by The Miss Lakeside Scholarship Pageant<br />\nfor the Children of Lakeside
LOCATION:Lakeside's Maine Ave.
UID:e.3146.1645
SEQUENCE:3
DTSTAMP:20260419T131137Z
URL:https://lakesidechamber.org/events/details/trick-or-treat-on-maine-1645
END:VEVENT

END:VCALENDAR
