BEGIN:VCALENDAR
VERSION:2.0
PRODID:-//ChamberMaster//Event Calendar 2.0//EN
METHOD:PUBLISH
X-PUBLISHED-TTL:P3D
REFRESH-INTERVAL:P3D
CALSCALE:GREGORIAN
BEGIN:VEVENT
DTSTART:20231007T020000Z
DTEND:20231007T040000Z
X-MICROSOFT-CDO-ALLDAYEVENT:FALSE
SUMMARY:Tihe Whole Sha-Bang
DESCRIPTION:Steak Night in Kephart Hall from 5:00-8:00pm\n\nThe Whole Sha-Bang from 7:00pm -9:00pm
X-ALT-DESC;FMTTYPE=text/html:Steak Night in Kephart Hall from 5:00-8:00pm<br />\nThe Whole Sha-Bang from 7:00pm -9:00pm
LOCATION:VFW 5867 12560 Lindo Lane Lakeside\, Ca. 92040
UID:e.3146.3258
SEQUENCE:3
DTSTAMP:20260419T130515Z
URL:https://lakesidechamber.org/events/details/tihe-whole-sha-bang-3258
END:VEVENT

END:VCALENDAR
