BEGIN:VCALENDAR
VERSION:2.0
PRODID:-//ChamberMaster//Event Calendar 2.0//EN
METHOD:PUBLISH
X-PUBLISHED-TTL:P3D
REFRESH-INTERVAL:P3D
CALSCALE:GREGORIAN
BEGIN:VEVENT
DTSTART;VALUE=DATE:20231020
DTEND;VALUE=DATE:20231023
TRANSP:TRANSPARENT
X-MICROSOFT-CDO-ALLDAYEVENT:TRUE
SUMMARY:Spooky Camp-O-Ween at Lake Jennings
DESCRIPTION:October is right around the corner\, meaning Spooky Camp-o-ween is back! Registered campers can participate in some spooky and fun activities during one of two weekends: October 20-22 or October 27-29.\n\n\n\nCheck-in on Friday and pick up Creepy Crafts and then enjoy the evening around the campfire. Saturday has every kid's favorite\, campground trick-or-treating\, followed by the campsite decorating contest\, where you have the chance to win a free camping weekend that includes boat rental and fishing permits - but only if you have the spookiest and most creative campsite\, of course.\n\n\n\nThe 'I Spy' scavenger hunt will also be going on all weekend\, so be sure to keep your eyes peeled and don't forget to bring your very best costumes!\n\n\n\nThis weekend is for registered campers only and campsites fill up quickly! Reserve your campsite today by calling (619) 390-1623.
X-ALT-DESC;FMTTYPE=text/html:<span style="font-size:14px"><span style="font-family:tahoma">October is right around the corner\, meaning Spooky Camp-o-ween is back! Registered campers can participate in some spooky and fun activities during one of two weekends: October 20-22 or October 27-29.<br />\n<br />\nCheck-in on Friday and pick up Creepy Crafts and then enjoy the evening around the campfire. Saturday has every kid&rsquo\;s favorite\, campground trick-or-treating\, followed by the campsite decorating contest\, where you have the chance to win a free camping weekend that includes boat rental and fishing permits - but only if you have the spookiest and most creative campsite\, of course.<br />\n<br />\nThe &#39\;I Spy&#39\; scavenger hunt will also be going on all weekend\, so be sure to keep your eyes peeled and don&rsquo\;t forget to bring your very best costumes!<br />\n<br />\nThis weekend is for registered campers only and campsites fill up quickly! Reserve your campsite today by calling (619) 390-1623.</span></span><br />\n&nbsp\;
LOCATION:
UID:e.3146.3251
SEQUENCE:3
DTSTAMP:20260419T132807Z
URL:https://lakesidechamber.org/events/details/spooky-camp-o-ween-at-lake-jennings-10-20-2023-3251
END:VEVENT

END:VCALENDAR
