BEGIN:VCALENDAR
VERSION:2.0
PRODID:-//ChamberMaster//Event Calendar 2.0//EN
METHOD:PUBLISH
X-PUBLISHED-TTL:P3D
REFRESH-INTERVAL:P3D
CALSCALE:GREGORIAN
BEGIN:VEVENT
DTSTART:20231022T030000Z
DTEND:20231022T050000Z
X-MICROSOFT-CDO-ALLDAYEVENT:FALSE
SUMMARY:Spookeasy SMSC
DESCRIPTION:This 1920's themed event will feature haunted trails\, spirit bars and murder mysteries\; a costume party and contest\; live bands and entertainment. A bar and food is included.
X-ALT-DESC;FMTTYPE=text/html:This 1920&#39\;s themed event will feature haunted trails\, spirit bars and murder mysteries\; a costume party and contest\; live bands and entertainment. A bar and food is included.
LOCATION:St. Madeleine Sohpie's Center 2119 E. Madison Ave. El Cajon\, CA 92019-1111
UID:e.3146.3234
SEQUENCE:3
DTSTAMP:20260419T130545Z
URL:https://lakesidechamber.org/events/details/spookeasy-smsc-3234
END:VEVENT

END:VCALENDAR
