BEGIN:VCALENDAR
VERSION:2.0
PRODID:-//ChamberMaster//Event Calendar 2.0//EN
METHOD:PUBLISH
X-PUBLISHED-TTL:P3D
REFRESH-INTERVAL:P3D
CALSCALE:GREGORIAN
BEGIN:VEVENT
DTSTART:20231003T200000Z
DTEND:20231003T220000Z
X-MICROSOFT-CDO-ALLDAYEVENT:FALSE
SUMMARY:Skyline Church Food Distribution
DESCRIPTION:Free food and produce
X-ALT-DESC;FMTTYPE=text/html:Free food and produce
LOCATION:Skyline Church 9455 Los Coches Road Lakeside\, CA 92040
UID:e.3146.2013
SEQUENCE:3
DTSTAMP:20260419T132410Z
URL:https://lakesidechamber.org/events/details/skyline-church-food-distribution-10-03-2023-2013
END:VEVENT

END:VCALENDAR
