BEGIN:VCALENDAR
VERSION:2.0
PRODID:-//ChamberMaster//Event Calendar 2.0//EN
METHOD:PUBLISH
X-PUBLISHED-TTL:P3D
REFRESH-INTERVAL:P3D
CALSCALE:GREGORIAN
BEGIN:VEVENT
DTSTART:20231005T010000Z
DTEND:20231005T030000Z
X-MICROSOFT-CDO-ALLDAYEVENT:FALSE
SUMMARY:Senator Jones Grand Opening and Housewarming
DESCRIPTION:Please join Senator Brian W. Jones for the Grand Opening of his new Scripps Ranch district office
X-ALT-DESC;FMTTYPE=text/html:Please join Senator Brian W. Jones for the Grand Opening of his new Scripps Ranch district office
LOCATION:10605 Treena Street #110 San Diego\, CA
UID:e.3146.3233
SEQUENCE:3
DTSTAMP:20260419T131258Z
URL:https://lakesidechamber.org/events/details/senator-jones-grand-opening-and-housewarming-3233
END:VEVENT

END:VCALENDAR
