BEGIN:VCALENDAR
VERSION:2.0
PRODID:-//ChamberMaster//Event Calendar 2.0//EN
METHOD:PUBLISH
X-PUBLISHED-TTL:P3D
REFRESH-INTERVAL:P3D
CALSCALE:GREGORIAN
BEGIN:VEVENT
DTSTART:20231013T010000Z
DTEND:20231013T023000Z
X-MICROSOFT-CDO-ALLDAYEVENT:FALSE
SUMMARY:SD County Community Input Event
DESCRIPTION:Learn about plans for new infrastructure in our community\n\nMeet with County staff to discuss projects in your neighborhood\n\nAsk questions\, share ideas
X-ALT-DESC;FMTTYPE=text/html:Learn about plans for new infrastructure in our community<br />\nMeet with County staff to discuss projects in your neighborhood<br />\nAsk questions\, share ideas
LOCATION:Lakeside Library 12428 Woodside Ave. Lakeside\, 92040
UID:e.3146.3259
SEQUENCE:3
DTSTAMP:20260419T130411Z
URL:https://lakesidechamber.org/events/details/sd-county-community-input-event-3259
END:VEVENT

END:VCALENDAR
