BEGIN:VCALENDAR
VERSION:2.0
PRODID:-//ChamberMaster//Event Calendar 2.0//EN
METHOD:PUBLISH
X-PUBLISHED-TTL:P3D
REFRESH-INTERVAL:P3D
CALSCALE:GREGORIAN
BEGIN:VEVENT
DTSTART;VALUE=DATE:20231012
DTEND;VALUE=DATE:20231013
TRANSP:TRANSPARENT
X-MICROSOFT-CDO-ALLDAYEVENT:TRUE
SUMMARY:Ribbon Cutting Sparky's Transmission
DESCRIPTION:Grand Opening Ribbon-Cutting at Sparky's Transmission\n\nFood - Drinks and live music.\n\nCome prepared to celebrate and network!
X-ALT-DESC;FMTTYPE=text/html:Grand Opening Ribbon-Cutting at Sparky&#39\;s Transmission<br />\nFood - Drinks and live music.<br />\nCome prepared to celebrate and network!
LOCATION:Sparky's Transmission 10969 Wheatlands Ave. #B Santee\, CA 92071
UID:e.3146.3241
SEQUENCE:3
DTSTAMP:20260419T131045Z
URL:https://lakesidechamber.org/events/details/ribbon-cutting-sparky-s-transmission-3241
END:VEVENT

END:VCALENDAR
