BEGIN:VCALENDAR
VERSION:2.0
PRODID:-//ChamberMaster//Event Calendar 2.0//EN
METHOD:PUBLISH
X-PUBLISHED-TTL:P3D
REFRESH-INTERVAL:P3D
CALSCALE:GREGORIAN
BEGIN:VEVENT
DTSTART;VALUE=DATE:20230929
DTEND;VALUE=DATE:20231002
TRANSP:TRANSPARENT
X-MICROSOFT-CDO-ALLDAYEVENT:TRUE
SUMMARY:Oktoberfest in El Cajon 2023
DESCRIPTION:The German American Societies of San Diego invite you to join them at Oktoberfest in El Cajon.
X-ALT-DESC;FMTTYPE=text/html:The German American Societies of San Diego invite you to join them at Oktoberfest in El Cajon.
LOCATION:1017 Mollison Ave. El Cajon
UID:e.3146.756
SEQUENCE:3
DTSTAMP:20260419T132320Z
URL:https://lakesidechamber.org/events/details/oktoberfest-in-el-cajon-2023-756
END:VEVENT

END:VCALENDAR
