BEGIN:VCALENDAR
VERSION:2.0
PRODID:-//ChamberMaster//Event Calendar 2.0//EN
METHOD:PUBLISH
X-PUBLISHED-TTL:P3D
REFRESH-INTERVAL:P3D
CALSCALE:GREGORIAN
BEGIN:VEVENT
DTSTART:20231027T170000Z
DTEND:20231028T190000Z
X-MICROSOFT-CDO-ALLDAYEVENT:FALSE
SUMMARY:Lions\, Tigers & Bears Spooky Campover
DESCRIPTION:Camp out in the countryside and sleep under the stars with the sanctuary animals at Lions Tigers & Bears. This spooky overnight event includes pumpkin carving\, a Halloween costume contest\, an all-ages haunted house\, s'mores by the campfire and watch the lions\, tigers and bears devour their pumpkin treats!
X-ALT-DESC;FMTTYPE=text/html:<span style="color: rgb(36\, 36\, 36)\; font-family: Calibri\, sans-serif\; font-size: 14.6667px\;">Camp out in the countryside and sleep under the stars with the sanctuary animals at Lions Tigers &amp\; Bears. This spooky overnight event includes pumpkin carving\, a Halloween costume contest\, an all-ages haunted house\, s&#39\;mores by the campfire and watch the lions\, tigers and bears devour their pumpkin treats!&nbsp\;</span>
LOCATION:Lions Tigers and Bears 24402 Martin Way\, Alpine\, CA 91901-2513
UID:e.3146.3263
SEQUENCE:3
DTSTAMP:20260419T130941Z
URL:https://lakesidechamber.org/events/details/lions-tigers-bears-spooky-campover-3263
END:VEVENT

END:VCALENDAR
