BEGIN:VCALENDAR
VERSION:2.0
PRODID:-//ChamberMaster//Event Calendar 2.0//EN
METHOD:PUBLISH
X-PUBLISHED-TTL:P3D
REFRESH-INTERVAL:P3D
CALSCALE:GREGORIAN
BEGIN:VEVENT
DTSTART:20231028T170000Z
DTEND:20231028T190000Z
X-MICROSOFT-CDO-ALLDAYEVENT:FALSE
SUMMARY:Lions Tigers & Bears Pumpkin Bash
DESCRIPTION:Come dressed in your best costume and watch the rescued big cats and bears devour their pumpkin treats during our Pumpkin Bash. Pumpkins are stuffed with all kinds of delicious goodies and our rescued animals enjoy their amazing fall-themed enrichment. Come watch as they play with their pumpkins and gobble up the goods. Don't miss out - reserve your space today! For more info visit: lionstigersandbears.org or call 619.659.8078.
X-ALT-DESC;FMTTYPE=text/html:<p class="x_MsoNormal" style="margin: 0in\; font-size: 11pt\; font-family: Calibri\, sans-serif\; color: rgb(36\, 36\, 36)\;">Come dressed in your best costume and watch the rescued big cats and bears devour their pumpkin treats during our Pumpkin Bash. Pumpkins are stuffed with all kinds of delicious goodies and our rescued animals enjoy their amazing fall-themed enrichment. Come watch as they play with their pumpkins and gobble up the goods. Don&#39\;t miss out - reserve your space today! For more info visit: lionstigersandbears.org or call 619.659.8078.</p>\n
LOCATION:24402 Martin Way Alpine\, 91901
UID:e.3146.3264
SEQUENCE:3
DTSTAMP:20260419T144628Z
URL:https://lakesidechamber.org/events/details/lions-tigers-bears-pumpkin-bash-3264
END:VEVENT

END:VCALENDAR
