BEGIN:VCALENDAR
VERSION:2.0
PRODID:-//ChamberMaster//Event Calendar 2.0//EN
METHOD:PUBLISH
X-PUBLISHED-TTL:P3D
REFRESH-INTERVAL:P3D
CALSCALE:GREGORIAN
BEGIN:VEVENT
DTSTART:20190427T163500Z
DTEND:20190427T190000Z
X-MICROSOFT-CDO-ALLDAYEVENT:FALSE
SUMMARY:Lakeside Western Days Parade
DESCRIPTION:55th Annual Lakeside Western Days Parade\n\nFloats\, bands\, equestrian groups\, Color Guard and Drill Teams\, cars\, clowns\, local personalities\, dignitaries and other local favorites.\n\n\n\nClick here to fill out the parade application
X-ALT-DESC;FMTTYPE=text/html:<strong>55th Annual Lakeside Western Days Parade<br />\nFloats\, bands\, equestrian groups\, Color Guard and Drill Teams\, cars\, clowns\, local personalities\, dignitaries and other local favorites.<br />\n<br />\n<a href="http://lakesidechamber.org/form/view/18852">Click here to fill out the parade application</a>&nbsp\;</strong><br />\n<br />\n&nbsp\;
LOCATION:Woodside Ave to Maine Ave
UID:e.3146.296
SEQUENCE:3
DTSTAMP:20260424T073133Z
URL:https://lakesidechamber.org/events/details/lakeside-western-days-parade-296
END:VEVENT

END:VCALENDAR
