BEGIN:VCALENDAR
VERSION:2.0
PRODID:-//ChamberMaster//Event Calendar 2.0//EN
METHOD:PUBLISH
X-PUBLISHED-TTL:P3D
REFRESH-INTERVAL:P3D
CALSCALE:GREGORIAN
BEGIN:VEVENT
DTSTART:20231028T150000Z
DTEND:20231028T210000Z
X-MICROSOFT-CDO-ALLDAYEVENT:FALSE
SUMMARY:Lakeside Garden Club Plant and Bake Sale
DESCRIPTION:Happy Fall!\n\nLakeside Garden Club Plant Sale and Bake Sale too.\n\nProceeds go towards ornamental horticulture scholarships\, community gardens and other local projects
X-ALT-DESC;FMTTYPE=text/html:Happy Fall!<br />\nLakeside Garden Club Plant Sale and Bake Sale too.<br />\nProceeds go towards ornamental horticulture scholarships\, community gardens and other local projects
LOCATION:The Olde Church 9906 Maine Avenue Lakeside\, Ca. 92040
UID:e.3146.1650
SEQUENCE:3
DTSTAMP:20260419T133119Z
URL:https://lakesidechamber.org/events/details/lakeside-garden-club-plant-and-bake-sale-1650
END:VEVENT

END:VCALENDAR
