BEGIN:VCALENDAR
VERSION:2.0
PRODID:-//ChamberMaster//Event Calendar 2.0//EN
METHOD:PUBLISH
X-PUBLISHED-TTL:P3D
REFRESH-INTERVAL:P3D
CALSCALE:GREGORIAN
BEGIN:VEVENT
DTSTART;VALUE=DATE:20231001
DTEND;VALUE=DATE:20231101
TRANSP:TRANSPARENT
X-MICROSOFT-CDO-ALLDAYEVENT:TRUE
SUMMARY:Kids Fish Free
DESCRIPTION:In collaboration with the San Diego Tourism Authority\, all children 12 & under fish for free at Lake Jennings for the month of October! If you haven't seen the wonder of nature through the eyes of a child\, now is the time. Gather up the kids and come out to the lake for a day on the water! Children must be accompanied by a paying adult. Check www.lakejennings.org for lake hours.\n\n\n\nA California state fishing license is required.\n\n \n\nDaily Use (not fishing) Fee: $4/adult\n\n\n\nFISHING FEES - OCTOBER\n\nAdult (16+ years) - $12\n\nSenior & Military (with ID) - $11\n\nYouth (0-12) - Free\n\nYouth (13-15 years) - $8\n\n \n\nBOAT RENTALS\n\n$48 - 5 Hour Motorboat Rental ($14 additional hour)\n\n$25   5 Hour Rowboat Rental ($5 additional hour)\n\n$20   2 Hour Kayak Rental\n\n$12 - Hourly Paddleboat Rental\n\n$25   Hourly Krystal Kanoe Rental (2-person/kanoe) \n\n$10 - Private Boat Launch\n\n \n\n**Ask about our military discount on boat rentals.
X-ALT-DESC;FMTTYPE=text/html:<span style="font-size:12px"><span style="font-family:arial\,helvetica\,sans-serif">In collaboration with the San Diego Tourism Authority\, all children 12 &amp\; under fish for free at Lake Jennings for the month of October! If you haven&rsquo\;t seen the wonder of nature through the eyes of a child\, now is the time. Gather up the kids and come out to the lake for a day on the water! Children must be accompanied by a paying adult. Check <a href="http://www.lakejennings.org">www.lakejennings.org</a> for lake hours.<br />\n<br />\n<strong><em>A California state fishing license is required.</em></strong><br />\n&nbsp\;<br />\n<strong>Daily Use (not fishing) Fee: </strong>$4/adult<br />\n<br />\n<u>FISHING FEES</u> - OCTOBER<br />\nAdult (16+ years) - $12<br />\nSenior &amp\; Military (with ID) - $11<br />\nYouth (0-12) - Free<br />\nYouth (13-15 years) - $8<br />\n&nbsp\;<br />\n<u>BOAT RENTALS</u><br />\n$48 - 5 Hour Motorboat Rental ($14 additional hour)<br />\n$25 &ndash\; 5 Hour Rowboat Rental ($5 additional hour)<br />\n$20 &ndash\; 2 Hour Kayak Rental<br />\n$12 - Hourly Paddleboat Rental<br />\n$25 &ndash\; Hourly Krystal Kanoe Rental (2-person/kanoe)&nbsp\;<br />\n$10 - Private Boat Launch<br />\n&nbsp\;<br />\n**Ask about our military discount on boat rentals.</span></span><br />\n&nbsp\;
LOCATION:
UID:e.3146.3239
SEQUENCE:3
DTSTAMP:20260419T130540Z
URL:https://lakesidechamber.org/events/details/kids-fish-free-3239
END:VEVENT

END:VCALENDAR
