BEGIN:VCALENDAR
VERSION:2.0
PRODID:-//ChamberMaster//Event Calendar 2.0//EN
METHOD:PUBLISH
X-PUBLISHED-TTL:P3D
REFRESH-INTERVAL:P3D
CALSCALE:GREGORIAN
BEGIN:VEVENT
DTSTART:20231014T220000Z
DTEND:20231015T050000Z
X-MICROSOFT-CDO-ALLDAYEVENT:FALSE
SUMMARY:JCPF Fundraiser Concert
DESCRIPTION:Come out for a night of fun with live music from Leigh Taylor\, Richard Orloff & Pianist Rick Spencer and the the Bill Wells Band\, games such as billiards and darts\, vendors with food and the VW drinks. Proceeds will help James Cerebral Palsy Foundation continue its mission to enhance the quality of life for those with disabilities.
X-ALT-DESC;FMTTYPE=text/html:Come out for a night of fun with live music from Leigh Taylor\, Richard Orloff &amp\; Pianist Rick Spencer and the the Bill Wells Band\, games such as billiards and darts\, vendors with food and the VW drinks. Proceeds will help James Cerebral Palsy Foundation continue its mission to enhance the quality of life for those with disabilities.&nbsp\;
LOCATION:VFW Post 3788 7785 Othello Ave. San Diego\, CA 92111
UID:e.3146.2256
SEQUENCE:3
DTSTAMP:20260419T130539Z
URL:https://lakesidechamber.org/events/details/jcpf-fundraiser-concert-2256
END:VEVENT

END:VCALENDAR
