BEGIN:VCALENDAR
VERSION:2.0
PRODID:-//ChamberMaster//Event Calendar 2.0//EN
METHOD:PUBLISH
X-PUBLISHED-TTL:P3D
REFRESH-INTERVAL:P3D
CALSCALE:GREGORIAN
BEGIN:VEVENT
DTSTART:20231018T003000Z
DTEND:20231018T023000Z
X-MICROSOFT-CDO-ALLDAYEVENT:FALSE
SUMMARY:Grossmont College OPT Mentor Night
DESCRIPTION:Inspirational Stories\n\nNetworking \n\nRaffle Prizes\n\nDinner from Filippi's
X-ALT-DESC;FMTTYPE=text/html:Inspirational Stories<br />\nNetworking&nbsp\;<br />\nRaffle Prizes<br />\nDinner from Filippi&#39\;s
LOCATION:Griffin Gate\, Bldg. 60\, Room 60-180 Free Parking - no permit is required
UID:e.3146.3255
SEQUENCE:3
DTSTAMP:20260419T144627Z
URL:https://lakesidechamber.org/events/details/grossmont-college-opt-mentor-night-3255
END:VEVENT

END:VCALENDAR
