BEGIN:VCALENDAR
VERSION:2.0
PRODID:-//ChamberMaster//Event Calendar 2.0//EN
METHOD:PUBLISH
X-PUBLISHED-TTL:P3D
REFRESH-INTERVAL:P3D
CALSCALE:GREGORIAN
BEGIN:VEVENT
DTSTART;VALUE=DATE:20231027
DTEND;VALUE=DATE:20231028
TRANSP:TRANSPARENT
X-MICROSOFT-CDO-ALLDAYEVENT:TRUE
SUMMARY:Ghost Town Trunk or Treat at the Rodeo Grounds
DESCRIPTION:Food and Treats available for purchase
X-ALT-DESC;FMTTYPE=text/html:Food and Treats available for purchase
LOCATION:Lakeside Rodeo Grounds 12584 Mapleview StLakeside\, CA 92040
UID:e.3146.3260
SEQUENCE:3
DTSTAMP:20260419T145655Z
URL:https://lakesidechamber.org/events/details/ghost-town-trunk-or-treat-at-the-rodeo-grounds-3260
END:VEVENT

END:VCALENDAR
