BEGIN:VCALENDAR
VERSION:2.0
PRODID:-//ChamberMaster//Event Calendar 2.0//EN
METHOD:PUBLISH
X-PUBLISHED-TTL:P3D
REFRESH-INTERVAL:P3D
CALSCALE:GREGORIAN
BEGIN:VEVENT
DTSTART:20190420T170000Z
DTEND:20190420T210000Z
X-MICROSOFT-CDO-ALLDAYEVENT:FALSE
SUMMARY:East County Equestrian Foundation Annual Easter Egg Hunt
DESCRIPTION:East County Equestrian Foundation Annual Easter Egg Hunt with special appearance by "Mother Goose".\n\nCoffee at 10:00am - Hunt at 10:30am sharp \n\nPlease RSVP to ensure enough refreshments and eggs
X-ALT-DESC;FMTTYPE=text/html:East County Equestrian Foundation Annual Easter Egg Hunt with special appearance by &quot\;Mother Goose&quot\;.<br />\nCoffee at 10:00am - Hunt at 10:30am sharp&nbsp\;<br />\nPlease RSVP to ensure enough refreshments and eggs
LOCATION:Flinn Springs Park - Area 4 - $3.00 Parking 14787 Olde Hwy 80 El Cajon\, Ca 92021
UID:e.3146.732
SEQUENCE:3
DTSTAMP:20260421T234735Z
URL:https://lakesidechamber.org/events/details/east-county-equestrian-foundation-annual-easter-egg-hunt-732
END:VEVENT

END:VCALENDAR
