BEGIN:VCALENDAR
VERSION:2.0
PRODID:-//ChamberMaster//Event Calendar 2.0//EN
METHOD:PUBLISH
X-PUBLISHED-TTL:P3D
REFRESH-INTERVAL:P3D
CALSCALE:GREGORIAN
BEGIN:VEVENT
DTSTART:20231020T000000Z
DTEND:20231020T003000Z
X-MICROSOFT-CDO-ALLDAYEVENT:FALSE
SUMMARY:Chamber Ambassador Meeting
DESCRIPTION:Ambassador Meeting
X-ALT-DESC;FMTTYPE=text/html:Ambassador Meeting
LOCATION:Martin Marietta 12560 Slaughterhouse Canyon Road Lakeside\, 92040
UID:e.3146.1602
SEQUENCE:3
DTSTAMP:20260419T130819Z
URL:https://lakesidechamber.org/events/details/chamber-ambassador-meeting-1602
END:VEVENT

END:VCALENDAR
