BEGIN:VCALENDAR
VERSION:2.0
PRODID:-//ChamberMaster//Event Calendar 2.0//EN
METHOD:PUBLISH
X-PUBLISHED-TTL:P3D
REFRESH-INTERVAL:P3D
CALSCALE:GREGORIAN
BEGIN:VEVENT
DTSTART:20231015T023000Z
DTEND:20231015T050000Z
X-MICROSOFT-CDO-ALLDAYEVENT:FALSE
SUMMARY:Bulls only Rodeo 2023
DESCRIPTION:Bulls Only Rodeo-Serving the Youth of Lakeside since 1949\n\nThe most exciting 8 seconds in Rodeo!\n\nBull Riding\, Mutton Bustin and Jr. Bull Riding\n\nGate open 6pm
X-ALT-DESC;FMTTYPE=text/html:Bulls Only Rodeo-Serving the Youth of Lakeside since 1949<br />\nThe most exciting 8 seconds in Rodeo!<br />\nBull Riding\, Mutton Bustin and Jr. Bull Riding<br />\nGate open 6pm
LOCATION:Lakeside Rodeo Arena 12584 Mapleview Street Lakeside\, 92040
UID:e.3146.3242
SEQUENCE:3
DTSTAMP:20260419T131230Z
URL:https://lakesidechamber.org/events/details/bulls-only-rodeo-2023-10-14-2023-3242
END:VEVENT

END:VCALENDAR
