BEGIN:VCALENDAR
VERSION:2.0
PRODID:-//ChamberMaster//Event Calendar 2.0//EN
METHOD:PUBLISH
X-PUBLISHED-TTL:P3D
REFRESH-INTERVAL:P3D
CALSCALE:GREGORIAN
BEGIN:VEVENT
DTSTART:20180915T173000Z
DTEND:20180915T223000Z
X-MICROSOFT-CDO-ALLDAYEVENT:FALSE
SUMMARY:Ancient Spirits Speak: Gourd Art Class
DESCRIPTION:Traditionally\, gourds were used in a variety of ways\; for food\, as water and storage containers\, and even as instruments. Talented artist\, O'Jay Vanegas (of Din  descent)\, will teach the class using beginner art instruction techniques and participants will make and take home a beautiful gourd bowl. Power tools may be involved so class is for participants ages 16 and up. \n\n\n\nSpace is limited! To register\, you must call the Museum and pre-pay for the class to confirm your seat. RSVP by Friday\, September 7\, 2018. \n\n(619) 443-7003\n\n\n\nThis event is free for Barona Tribal Members and $25.00 for non-tribal members.
X-ALT-DESC;FMTTYPE=text/html:<span style="color:rgb(29\, 33\, 41)\; font-family:helvetica\,arial\,sans-serif\; font-size:14px">Traditionally\, gourds were used in a variety of ways\; for food\, as water and storage containers\, and even as instruments. Talented artist\, O&rsquo\;Jay Vanegas (of Din&eacute\; descent)\, will teach the class using beginner art instruction techniques and participants will make and take home a beautiful gourd bowl. Power tools may be involved so class is for participants ages 16 and up.&nbsp\;</span><br />\n<br />\n<span style="color:rgb(29\, 33\, 41)\; font-family:helvetica\,arial\,sans-serif\; font-size:14px">Space is limited! To register\, you must call the Museum and pre-pay for the class to confirm your seat. RSVP by Friday\, September 7\, 2018.&nbsp\;</span><br />\n<span style="color:rgb(29\, 33\, 41)\; font-family:helvetica\,arial\,sans-serif\; font-size:14px">(619) 443-7003</span><br />\n<br />\n<span style="color:rgb(29\, 33\, 41)\; font-family:helvetica\,arial\,sans-serif\; font-size:14px">This event is free for Barona Tribal Members and $25.00 for non-tribal members.&nbsp\;</span>
LOCATION:Barona Cultural Center & Museum's Classroom
UID:e.3146.702
SEQUENCE:3
DTSTAMP:20260421T034901Z
URL:https://lakesidechamber.org/events/details/ancient-spirits-speak-gourd-art-class-702
END:VEVENT

END:VCALENDAR
