BEGIN:VCALENDAR
VERSION:2.0
PRODID:-//ChamberMaster//Event Calendar 2.0//EN
METHOD:PUBLISH
X-PUBLISHED-TTL:P3D
REFRESH-INTERVAL:P3D
CALSCALE:GREGORIAN
BEGIN:VEVENT
DTSTART:20181103T173000Z
DTEND:20181103T223000Z
X-MICROSOFT-CDO-ALLDAYEVENT:FALSE
SUMMARY:Ancient Spirits Speak: Bow Making Class
DESCRIPTION:Traditionally\, Kumeyaay/Diegue o people would make their bows out of Oak\, Elderberry\, Mesquite\, Willow\, and in some cases Juniper trees.  They would also use agave fiber or sinew to make draw strings for their bows.  Usually\, a basic bow could take several weeks or even months to construct\, but in this class\, participants will learn how to shape and craft the perfect bow. Instructor Willie Pink (Pala) will discuss the proper materials and techniques for making this essential tool.\n\n\n\nSpace is limited!  Please call the Museum to prepay for the class. Must be 16 years or older. \n\n(619) 443-7003 ext. 219
X-ALT-DESC;FMTTYPE=text/html:Traditionally\, Kumeyaay/Diegue&ntilde\;o people would make their bows out of Oak\, Elderberry\, Mesquite\, Willow\, and in some cases Juniper trees.&nbsp\; They would also use agave fiber or sinew to make draw strings for their bows.&nbsp\; Usually\, a basic bow could take several weeks or even months to construct\, but in this class\, participants will learn how to shape and craft the perfect bow. Instructor Willie Pink (Pala) will discuss the proper materials and techniques for making this essential tool.<br />\n<br />\nSpace is limited!&nbsp\; Please call the Museum to prepay for the class. Must be 16 years or older.&nbsp\;<br />\n(619) 443-7003 ext. 219
LOCATION:Barona Cutural Center & Museum's Classroom
UID:e.3146.701
SEQUENCE:3
DTSTAMP:20260422T042001Z
URL:https://lakesidechamber.org/events/details/ancient-spirits-speak-bow-making-class-701
END:VEVENT

END:VCALENDAR
