BEGIN:VCALENDAR
VERSION:2.0
PRODID:-//ChamberMaster//Event Calendar 2.0//EN
METHOD:PUBLISH
X-PUBLISHED-TTL:P3D
REFRESH-INTERVAL:P3D
CALSCALE:GREGORIAN
BEGIN:VEVENT
DTSTART:20231012T230000Z
DTEND:20231013T010000Z
X-MICROSOFT-CDO-ALLDAYEVENT:FALSE
SUMMARY:AGC Fundraiser for Joel Anderson for Supervisor 2024
DESCRIPTION:AGC San Diego Chapter\, Marathon Construction\, Cass Arrieta and TC Construction invite you to a Fundraising event in support of Joel Anderson for Supervisor 2024
X-ALT-DESC;FMTTYPE=text/html:AGC San Diego Chapter\, Marathon Construction\, Cass Arrieta and TC Construction invite you to a Fundraising event in support of Joel Anderson for Supervisor 2024
LOCATION:Marathon Construction 10108 Riverford Road Lakeside\, 92040
UID:e.3146.3256
SEQUENCE:3
DTSTAMP:20260419T131137Z
URL:https://lakesidechamber.org/events/details/agc-fundraiser-for-joel-anderson-for-supervisor-2024-3256
END:VEVENT

END:VCALENDAR
