BEGIN:VCALENDAR
VERSION:2.0
PRODID:-//ChamberMaster//Event Calendar 2.0//EN
METHOD:PUBLISH
X-PUBLISHED-TTL:P3D
REFRESH-INTERVAL:P3D
CALSCALE:GREGORIAN
BEGIN:VEVENT
DTSTART;VALUE=DATE:20180831
DTEND;VALUE=DATE:20180903
TRANSP:TRANSPARENT
X-MICROSOFT-CDO-ALLDAYEVENT:TRUE
SUMMARY:48th Annual Barona Powwow
DESCRIPTION:Save the Date!\n\nAugust 31 - September 2\, 2018
X-ALT-DESC;FMTTYPE=text/html:Save the Date!<br />\nAugust 31 - September 2\, 2018<br />\n<br />\n&nbsp\;
LOCATION:Barona Sports Park Barona Indian Reservation - Lakeside Ca.
UID:e.3146.303
SEQUENCE:3
DTSTAMP:20260424T072925Z
URL:https://lakesidechamber.org/events/details/48th-annual-barona-powwow-303
END:VEVENT

END:VCALENDAR
